Workbook

Sheet Überblick
B3: Hinweise zum Umgang mit den Planungstabellen
B6: Unten finden Sie in den farbigen Registern zu jedem Handlungsfeld eine eigene Planungstabelle.
B10: Tragen Sie dort zeilenweise die Klimaschutzmaßnahmen ein, die Ihre Schule umsetzen möchten oder bereits umgesetzt hat. Auch Maßnahmen, die in der Vergangenheit bereits umgesetzt worden sind, können zur Dokumentation eingetragen werden. Zusätzlich müssen aber auch immer zukünftige Maßnahmen in einem Handlungsfeld enthalten sein. Für die Erstzertifizierung sind die ersten acht Handlungsfelder relevant. Die letzten drei Handlungsfelder sind freiwillig. Für die Rezertifizierung ist zusätzlich das Handlungsfeld "17 SDGs" in den Zertifizierungsstufen Silber und Gold verpflichtend.
B11: Im Reiter "CO2-Reduktionspfad" entwicklen Schulen, die in der Zertifizierungsstufe Gold ausgezeichnet werden möchten, einen CO2-Reduktionspfad für die kommenden 10 Jahre. Bei Schwierigkeiten im Umgang mit den Vorlagen finden Sie im Reiter "FAQ" weitere Hinweise sowie auf der Website des Programms Klimaschule Bayern: www.klimaschule.bayern.de/klimaschutzplan/. Gerne können Sie sich auch an die Landeskoordination des Programms Klimaschule wenden: info@klimaschule.bayern.de
B12: Basisangaben (bitte ausfüllen)
B13: Bitte tragen Sie im Folgenden ein, wann die Bewerbung zur Erstzertifizierung geplant ist. Das Kalenderjahr für die 2. oder 3. Bewerbungen wird erst eingetragen, wenn die 2. bzw. 3. Bewerbung erfolgt.
B14: Zeitpunkt der ersten Bewerbung zur Klimaschule | F14: 2025
B16: Zeitpunkt der zweiten Bewerbung (Rezertifierung) | F16: 2026
B18: Zeitpunkt dritten Bewerbung (Rezertifierung)
B21: Überblick über die Anzahl der Maßnahmen im Klimaschutzplans (Erstzertifizierung)
B22: Die folgende Übersicht gibt einen Überblick über die Anzahl der Maßnahmen im Klimaschutzplan und spiegelt den aktuellen Stand der Umsetzung wider. Darin enthalten sind auch diejenigen Maßnahmen, die in den freiwilligen Handlungsfeldern "Klimawandelanpassung", "Weitere Projekte zu den 17 Nachhaltigkeitszielen" sowie "Kompensation" aufgeführt sind. Die Übersicht wird automatisch ergänzt und erfordert hier keine eigenen Eintragungen. Die rote Kategorie "Anzahl der nicht umsetzbaren Maßnahmen" wird in der Regel erst beim zweiten Klimachutzplan (Rezertifizierung) relevant, wenn geplante Klimaschutzmaßnahmen nicht umgesetzt werden konnten.
C25: Anzahl aller Maßnahmen im Klimaschutzplan | E25: =COUNTA(Abfall!E8:E13,Einkauf!E8:E13,Ernährung!E11:E15,Kommunikation!E8:E13,Kohlenstoffbindung!E8:E12,Mobilität!E8:E13,Strom!E8:E13,Wärme!E8:E13,'17 SDGs'!E8:E11,'KW-Anpassung'!E8:E12,Kompensation!D19:D28) -> 34
C27: Anzahl der umgesetzen Maßnahmen | E27: =COUNTIF(Abfall!E8:E13,"umgesetzt")+COUNTIF(Einkauf!E8:E13,"umgesetzt")+COUNTIF(Ernährung!E11:E15,"umgesetzt")+COUNTIF(Kommunikation!E8:E13,"umgesetzt")+COUNTIF(Kohlenstoffbindung!E8:E12,"umgesetzt")+COUNTIF(Mobilität!E8:E13,"umgesetzt")+COUNTIF(Strom!E8:E13,"umgesetzt")+COUNTIF(Wärme!E8:E13,"umgesetzt")+COUNTIF('17 SDGs'!E8:E11,"umgesetzt")+ COUNTIF('KW-Anpassung'!E8:E12,"umgesetzt")+COUNTIF(Kompensation!D19:D28,"umgesetzt")+COUNTIF(Abfall!E8:E13,"wird laufend umgesetzt")+COUNTIF(Einkauf!E8:E13,"wird laufend umgesetzt")+COUNTIF(Ernährung!E11:E15,"wird laufend umgesetzt")+COUNTIF(Kommunikation!E8:E13,"wird laufend umgesetzt")+COUNTIF(Kohlenstoffbindung!E8:E12,"wird laufend umgesetzt")+COUNTIF(Mobilität!E8:E13,"wird laufend umgesetzt")+COUNTIF(Strom!E8:E13,"wird laufend umgesetzt")+COUNTIF(Wärme!E8:E13,"wird laufend umgesetzt")+COUNTIF('17 SDGs'!E8:E11,"wird laufend umgesetzt")+ COUNTIF('KW-Anpassung'!E8:E12,"wird laufend umgesetzt")+COUNTIF(Kompensation!D19:D28,"wird laufend umgesetzt") -> 21
C29: Anzahl der in Umsetzung befindlichen Maßnahmen | E29: =COUNTIF(Abfall!E8:E13,"in Umsetzung (Anfang)")+COUNTIF(Einkauf!E8:E13,"in Umsetzung (Anfang)")+COUNTIF(Ernährung!E11:E15,"in Umsetzung (Anfang)")+COUNTIF(Kommunikation!E8:E13,"in Umsetzung (Anfang)")+COUNTIF(Kohlenstoffbindung!E8:E12,"in Umsetzung (Anfang)")+COUNTIF(Mobilität!E8:E13,"in Umsetzung (Anfang)")+COUNTIF(Strom!E8:E13,"in Umsetzung (Anfang)")+COUNTIF(Wärme!E8:E13,"in Umsetzung (Anfang)")+COUNTIF('17 SDGs'!E8:E11,"in Umsetzung (Anfang)")+ COUNTIF('KW-Anpassung'!E8:E12,"in Umsetzung (Anfang)")+COUNTIF(Kompensation!D19:D28,"in Umsetzung (Anfang)")+COUNTIF(Abfall!E8:E9,"in Umsetzung (Mitte)")+COUNTIF(Einkauf!E8:E13,"in Umsetzung (Mitte)")+COUNTIF(Ernährung!E11:E15,"in Umsetzung (Mitte)")+COUNTIF(Kommunikation!E8:E13,"in Umsetzung (Mitte)")+COUNTIF(Kohlenstoffbindung!E8:E12,"in Umsetzung (Mitte)")+COUNTIF(Mobilität!E8:E13,"in Umsetzung (Mitte)")+COUNTIF(Strom!E8:E13,"in Umsetzung (Mitte)")+COUNTIF(Wärme!E8:E13,"in Umsetzung (Mitte)")+COUNTIF('17 SDGs'!E8:E11,"in Umsetzung (Mitte)")+ COUNTIF('KW-Anpassung'!E8:E12,"in Umsetzung (Mitte)")+COUNTIF(Kompensation!D19:D28,"in Umsetzung (Mitte)")+COUNTIF(Abfall!E8:E13,"in Umsetzung (Ende)")+COUNTIF(Einkauf!E8:E13,"in Umsetzung (Ende)")+COUNTIF(Ernährung!E11:E15,"in Umsetzung (Ende)")+COUNTIF(Kommunikation!E8:E13,"in Umsetzung (Ende)")+COUNTIF(Kohlenstoffbindung!E8:E12,"in Umsetzung (Ende)")+COUNTIF(Mobilität!E8:E13,"in Umsetzung (Ende)")+COUNTIF(Strom!E8:E13,"in Umsetzung (Ende)")+COUNTIF(Wärme!E8:E13,"in Umsetzung (Ende)")+COUNTIF('17 SDGs'!E8:E11,"in Umsetzung (Ende)")+ COUNTIF('KW-Anpassung'!E8:E12,"in Umsetzung (Ende)")+COUNTIF(Kompensation!D19:D28,"in Umsetzung (Ende)") -> 7
C31: Anzahl der zukünftig geplanten Maßnahmen | E31: =COUNTIF(Abfall!E8:E13,"zukünftiger Termin")+COUNTIF(Einkauf!E8:E13,"zukünftiger Termin")+COUNTIF(Ernährung!E11:E15,"zukünftiger Termin")+COUNTIF(Kommunikation!E8:E13,"zukünftiger Termin")+COUNTIF(Kohlenstoffbindung!E8:E12,"zukünftiger Termin")+COUNTIF(Mobilität!E8:E13,"zukünftiger Termin")+COUNTIF(Strom!E8:E13,"zukünftiger Termin")+COUNTIF(Wärme!E8:E13,"zukünftiger Termin")+COUNTIF('17 SDGs'!E8:E11,"zukünftiger Termin")+ COUNTIF('KW-Anpassung'!E8:E12,"zukünftiger Termin")+COUNTIF(Kompensation!D19:D28,"zukünftiger Termin") -> 6
C33: Anzahl der nicht umsetzbaren Maßnahmen | E33: =COUNTIF(Abfall!E8:E13,"bisher nicht umgesetzt")+COUNTIF(Einkauf!E8:E13,"bisher nicht umgesetzt")+COUNTIF(Ernährung!E11:E15,"bisher nicht umgesetzt")+COUNTIF(Kommunikation!E8:E13,"bisher nicht umgesetzt")+COUNTIF(Kohlenstoffbindung!E8:E12,"bisher nicht umgesetzt")+COUNTIF(Mobilität!E8:E13,"bisher nicht umgesetzt")+COUNTIF(Strom!E8:E13,"bisher nicht umgesetzt")+COUNTIF(Wärme!E8:E13,"bisher nicht umgesetzt")+COUNTIF('17 SDGs'!E8:E11,"bisher nicht umgesetzt")+ COUNTIF('KW-Anpassung'!E8:E12,"bisher nicht umgesetzt")+COUNTIF(Kompensation!D19:D28,"bisher nicht umgesetzt")+ COUNTIF(Abfall!E8:E13,"Umsetzung nicht möglich")+COUNTIF(Einkauf!E8:E13,"Umsetzung nicht möglich")+COUNTIF(Ernährung!E11:E15,"Umsetzung nicht möglich")+COUNTIF(Kommunikation!E8:E13,"Umsetzung nicht möglich")+COUNTIF(Kohlenstoffbindung!E8:E12,"Umsetzung nicht möglich")+COUNTIF(Mobilität!E8:E13,"Umsetzung nicht möglich")+COUNTIF(Strom!E8:E13,"Umsetzung nicht möglich")+COUNTIF(Wärme!E8:E13,"Umsetzung nicht möglich")+COUNTIF('17 SDGs'!E8:E11,"Umsetzung nicht möglich")+ COUNTIF('KW-Anpassung'!E8:E12,"Umsetzung nicht möglich")+COUNTIF(Kompensation!D19:D28,"Umsetzung nicht möglich") -> 0
B38: Überblick über die Anzahl der Maßnahmen im Klimaschutzplans (1. Rezertifizierung)
B39: Die folgende Übersicht gibt einen Überblick über die Anzahl der Maßnahmen im Klimaschutzplan und spiegelt den Stand der Umsetzung zum Zeitpunkt der ersten Rezertifizierung wider. Die Übersicht wird ebenfalls automatisch ergänzt und erfordert keine eigenen Eintragungen.
C42: Anzahl aller Maßnahmen im Klimaschutzplan | E42: =COUNTA(Abfall!F8:F13,Einkauf!F8:F13,Ernährung!F11:F15,Kommunikation!F8:F13,Kohlenstoffbindung!F8:F12,Mobilität!F8:F13,Strom!F8:F13,Wärme!F8:F13,'17 SDGs'!F8:F11,'KW-Anpassung'!F8:F12,Kompensation!E19:E28) -> 41
C44: Anzahl der umgesetzen Maßnahmen | E44: =COUNTIF(Abfall!F8:F13,"umgesetzt")+COUNTIF(Einkauf!F8:F13,"umgesetzt")+COUNTIF(Ernährung!F11:F15,"umgesetzt")+COUNTIF(Kommunikation!F8:F13,"umgesetzt")+COUNTIF(Kohlenstoffbindung!F8:F12,"umgesetzt")+COUNTIF(Mobilität!F8:F13,"umgesetzt")+COUNTIF(Strom!F8:F13,"umgesetzt")+COUNTIF(Wärme!F8:F13,"umgesetzt")+COUNTIF('17 SDGs'!F8:F11,"umgesetzt")+ COUNTIF('KW-Anpassung'!F8:F12,"umgesetzt")+COUNTIF(Kompensation!E19:E28,"umgesetzt")+COUNTIF(Abfall!F8:F13,"wird laufend umgesetzt")+COUNTIF(Einkauf!F8:F13,"wird laufend umgesetzt")+COUNTIF(Ernährung!F11:F15,"wird laufend umgesetzt")+COUNTIF(Kommunikation!F8:F13,"wird laufend umgesetzt")+COUNTIF(Kohlenstoffbindung!F8:F12,"wird laufend umgesetzt")+COUNTIF(Mobilität!F8:F13,"wird laufend umgesetzt")+COUNTIF(Strom!F8:F13,"wird laufend umgesetzt")+COUNTIF(Wärme!F8:F13,"wird laufend umgesetzt")+COUNTIF('17 SDGs'!F8:F11,"wird laufend umgesetzt")+ COUNTIF('KW-Anpassung'!F8:F12,"wird laufend umgesetzt")+COUNTIF(Kompensation!E19:E28,"wird laufend umgesetzt") -> 33
C46: Anzahl der in Umsetzung befindlichen Maßnahmen | E46: =COUNTIF(Abfall!F8:F13,"in Umsetzung (Anfang)")+COUNTIF(Einkauf!F8:F13,"in Umsetzung (Anfang)")+COUNTIF(Ernährung!F11:F15,"in Umsetzung (Anfang)")+COUNTIF(Kommunikation!F8:F13,"in Umsetzung (Anfang)")+COUNTIF(Kohlenstoffbindung!F8:F12,"in Umsetzung (Anfang)")+COUNTIF(Mobilität!F8:F13,"in Umsetzung (Anfang)")+COUNTIF(Strom!F8:F13,"in Umsetzung (Anfang)")+COUNTIF(Wärme!F8:F13,"in Umsetzung (Anfang)")+COUNTIF('17 SDGs'!F8:F11,"in Umsetzung (Anfang)")+ COUNTIF('KW-Anpassung'!F8:F12,"in Umsetzung (Anfang)")+COUNTIF(Kompensation!E19:E28,"in Umsetzung (Anfang)")+COUNTIF(Abfall!E8:E9,"in Umsetzung (Mitte)")+COUNTIF(Einkauf!F8:F13,"in Umsetzung (Mitte)")+COUNTIF(Ernährung!F11:F15,"in Umsetzung (Mitte)")+COUNTIF(Kommunikation!F8:F13,"in Umsetzung (Mitte)")+COUNTIF(Kohlenstoffbindung!F8:F12,"in Umsetzung (Mitte)")+COUNTIF(Mobilität!F8:F13,"in Umsetzung (Mitte)")+COUNTIF(Strom!F8:F13,"in Umsetzung (Mitte)")+COUNTIF(Wärme!F8:F13,"in Umsetzung (Mitte)")+COUNTIF('17 SDGs'!F8:F11,"in Umsetzung (Mitte)")+ COUNTIF('KW-Anpassung'!F8:F12,"in Umsetzung (Mitte)")+COUNTIF(Kompensation!E19:E28,"in Umsetzung (Mitte)")+COUNTIF(Abfall!F8:F13,"in Umsetzung (Ende)")+COUNTIF(Einkauf!F8:F13,"in Umsetzung (Ende)")+COUNTIF(Ernährung!F11:F15,"in Umsetzung (Ende)")+COUNTIF(Kommunikation!F8:F13,"in Umsetzung (Ende)")+COUNTIF(Kohlenstoffbindung!F8:F12,"in Umsetzung (Ende)")+COUNTIF(Mobilität!F8:F13,"in Umsetzung (Ende)")+COUNTIF(Strom!F8:F13,"in Umsetzung (Ende)")+COUNTIF(Wärme!F8:F13,"in Umsetzung (Ende)")+COUNTIF('17 SDGs'!F8:F11,"in Umsetzung (Ende)")+ COUNTIF('KW-Anpassung'!F8:F12,"in Umsetzung (Ende)")+COUNTIF(Kompensation!E19:E28,"in Umsetzung (Ende)") -> 2
C48: Anzahl der zukünftig geplanten Maßnahmen | E48: =COUNTIF(Abfall!F8:F13,"zukünftiger Termin")+COUNTIF(Einkauf!F8:F13,"zukünftiger Termin")+COUNTIF(Ernährung!F11:F15,"zukünftiger Termin")+COUNTIF(Kommunikation!F8:F13,"zukünftiger Termin")+COUNTIF(Kohlenstoffbindung!F8:F12,"zukünftiger Termin")+COUNTIF(Mobilität!F8:F13,"zukünftiger Termin")+COUNTIF(Strom!F8:F13,"zukünftiger Termin")+COUNTIF(Wärme!F8:F13,"zukünftiger Termin")+COUNTIF('17 SDGs'!F8:F11,"zukünftiger Termin")+ COUNTIF('KW-Anpassung'!F8:F12,"zukünftiger Termin")+COUNTIF(Kompensation!E19:E28,"zukünftiger Termin") -> 5
C50: Anzahl der nicht umsetzbaren Maßnahmen | E50: =COUNTIF(Abfall!F8:F13,"bisher nicht umgesetzt")+COUNTIF(Einkauf!F8:F13,"bisher nicht umgesetzt")+COUNTIF(Ernährung!F11:F15,"bisher nicht umgesetzt")+COUNTIF(Kommunikation!F8:F13,"bisher nicht umgesetzt")+COUNTIF(Kohlenstoffbindung!F8:F12,"bisher nicht umgesetzt")+COUNTIF(Mobilität!F8:F13,"bisher nicht umgesetzt")+COUNTIF(Strom!F8:F13,"bisher nicht umgesetzt")+COUNTIF(Wärme!F8:F13,"bisher nicht umgesetzt")+COUNTIF('17 SDGs'!F8:F11,"bisher nicht umgesetzt")+ COUNTIF('KW-Anpassung'!F8:F12,"bisher nicht umgesetzt")+COUNTIF(Kompensation!E19:E28,"bisher nicht umgesetzt")+ COUNTIF(Abfall!F8:F13,"Umsetzung nicht möglich")+COUNTIF(Einkauf!F8:F13,"Umsetzung nicht möglich")+COUNTIF(Ernährung!F11:F15,"Umsetzung nicht möglich")+COUNTIF(Kommunikation!F8:F13,"Umsetzung nicht möglich")+COUNTIF(Kohlenstoffbindung!F8:F12,"Umsetzung nicht möglich")+COUNTIF(Mobilität!F8:F13,"Umsetzung nicht möglich")+COUNTIF(Strom!F8:F13,"Umsetzung nicht möglich")+COUNTIF(Wärme!F8:F13,"Umsetzung nicht möglich")+COUNTIF('17 SDGs'!F8:F11,"Umsetzung nicht möglich")+ COUNTIF('KW-Anpassung'!F8:F12,"Umsetzung nicht möglich")+COUNTIF(Kompensation!E19:E28,"Umsetzung nicht möglich") -> 0
B56: Überblick über die Anzahl der Maßnahmen im Klimaschutzplans (2. Rezertifizierung)
B57: Die folgende Übersicht gibt einen Überblick über die Anzahl der Maßnahmen im Klimaschutzplan und spiegelt den Stand der Umsetzung zum Zeitpunkt der zweiten Rezertifizierung wider. Die Übersicht wird ebenfalls automatisch ergänzt und erfordert keine eigenen Eintragungen.
C60: Anzahl aller Maßnahmen im Klimaschutzplan | E60: =COUNTA(Abfall!G8:G13,Einkauf!G8:G13,Ernährung!G11:G15,Kommunikation!G8:G13,Kohlenstoffbindung!G8:G12,Mobilität!G8:G13,Strom!G8:G13,Wärme!G8:G13,'17 SDGs'!G8:G11,'KW-Anpassung'!G8:G12,Kompensation!F19:F28) -> 0
C62: Anzahl der umgesetzen Maßnahmen | E62: =COUNTIF(Abfall!G8:G13,"umgesetzt")+COUNTIF(Einkauf!G8:G13,"umgesetzt")+COUNTIF(Ernährung!G11:G15,"umgesetzt")+COUNTIF(Kommunikation!G8:G13,"umgesetzt")+COUNTIF(Kohlenstoffbindung!G8:G12,"umgesetzt")+COUNTIF(Mobilität!G8:G13,"umgesetzt")+COUNTIF(Strom!G8:G13,"umgesetzt")+COUNTIF(Wärme!G8:G13,"umgesetzt")+COUNTIF('17 SDGs'!G8:G11,"umgesetzt")+ COUNTIF('KW-Anpassung'!G8:G12,"umgesetzt")+COUNTIF(Kompensation!F19:F28,"umgesetzt")+COUNTIF(Abfall!G8:G13,"wird laufend umgesetzt")+COUNTIF(Einkauf!G8:G13,"wird laufend umgesetzt")+COUNTIF(Ernährung!G11:G15,"wird laufend umgesetzt")+COUNTIF(Kommunikation!G8:G13,"wird laufend umgesetzt")+COUNTIF(Kohlenstoffbindung!G8:G12,"wird laufend umgesetzt")+COUNTIF(Mobilität!G8:G13,"wird laufend umgesetzt")+COUNTIF(Strom!G8:G13,"wird laufend umgesetzt")+COUNTIF(Wärme!G8:G13,"wird laufend umgesetzt")+COUNTIF('17 SDGs'!G8:G11,"wird laufend umgesetzt")+ COUNTIF('KW-Anpassung'!G8:G12,"wird laufend umgesetzt")+COUNTIF(Kompensation!F19:F28,"wird laufend umgesetzt") -> 0
C64: Anzahl der in Umsetzung befindlichen Maßnahmen | E64: =COUNTIF(Abfall!G8:G13,"in Umsetzung (Anfang)")+COUNTIF(Einkauf!G8:G13,"in Umsetzung (Anfang)")+COUNTIF(Ernährung!G11:G15,"in Umsetzung (Anfang)")+COUNTIF(Kommunikation!G8:G13,"in Umsetzung (Anfang)")+COUNTIF(Kohlenstoffbindung!G8:G12,"in Umsetzung (Anfang)")+COUNTIF(Mobilität!G8:G13,"in Umsetzung (Anfang)")+COUNTIF(Strom!G8:G13,"in Umsetzung (Anfang)")+COUNTIF(Wärme!G8:G13,"in Umsetzung (Anfang)")+COUNTIF('17 SDGs'!G8:G11,"in Umsetzung (Anfang)")+ COUNTIF('KW-Anpassung'!G8:G12,"in Umsetzung (Anfang)")+COUNTIF(Kompensation!F19:F28,"in Umsetzung (Anfang)")+COUNTIF(Abfall!E8:E9,"in Umsetzung (Mitte)")+COUNTIF(Einkauf!G8:G13,"in Umsetzung (Mitte)")+COUNTIF(Ernährung!G11:G15,"in Umsetzung (Mitte)")+COUNTIF(Kommunikation!G8:G13,"in Umsetzung (Mitte)")+COUNTIF(Kohlenstoffbindung!G8:G12,"in Umsetzung (Mitte)")+COUNTIF(Mobilität!G8:G13,"in Umsetzung (Mitte)")+COUNTIF(Strom!G8:G13,"in Umsetzung (Mitte)")+COUNTIF(Wärme!G8:G13,"in Umsetzung (Mitte)")+COUNTIF('17 SDGs'!G8:G11,"in Umsetzung (Mitte)")+ COUNTIF('KW-Anpassung'!G8:G12,"in Umsetzung (Mitte)")+COUNTIF(Kompensation!F19:F28,"in Umsetzung (Mitte)")+COUNTIF(Abfall!G8:G13,"in Umsetzung (Ende)")+COUNTIF(Einkauf!G8:G13,"in Umsetzung (Ende)")+COUNTIF(Ernährung!G11:G15,"in Umsetzung (Ende)")+COUNTIF(Kommunikation!G8:G13,"in Umsetzung (Ende)")+COUNTIF(Kohlenstoffbindung!G8:G12,"in Umsetzung (Ende)")+COUNTIF(Mobilität!G8:G13,"in Umsetzung (Ende)")+COUNTIF(Strom!G8:G13,"in Umsetzung (Ende)")+COUNTIF(Wärme!G8:G13,"in Umsetzung (Ende)")+COUNTIF('17 SDGs'!G8:G11,"in Umsetzung (Ende)")+ COUNTIF('KW-Anpassung'!G8:G12,"in Umsetzung (Ende)")+COUNTIF(Kompensation!F19:F28,"in Umsetzung (Ende)") -> 0
C66: Anzahl der zukünftig geplanten Maßnahmen | E66: =COUNTIF(Abfall!G8:G13,"zukünftiger Termin")+COUNTIF(Einkauf!G8:G13,"zukünftiger Termin")+COUNTIF(Ernährung!G11:G15,"zukünftiger Termin")+COUNTIF(Kommunikation!G8:G13,"zukünftiger Termin")+COUNTIF(Kohlenstoffbindung!G8:G12,"zukünftiger Termin")+COUNTIF(Mobilität!G8:G13,"zukünftiger Termin")+COUNTIF(Strom!G8:G13,"zukünftiger Termin")+COUNTIF(Wärme!G8:G13,"zukünftiger Termin")+COUNTIF('17 SDGs'!G8:G11,"zukünftiger Termin")+ COUNTIF('KW-Anpassung'!G8:G12,"zukünftiger Termin")+COUNTIF(Kompensation!F19:F28,"zukünftiger Termin") -> 0
C68: Anzahl der nicht umsetzbaren Maßnahmen | E68: =COUNTIF(Abfall!G8:G13,"bisher nicht umgesetzt")+COUNTIF(Einkauf!G8:G13,"bisher nicht umgesetzt")+COUNTIF(Ernährung!G11:G15,"bisher nicht umgesetzt")+COUNTIF(Kommunikation!G8:G13,"bisher nicht umgesetzt")+COUNTIF(Kohlenstoffbindung!G8:G12,"bisher nicht umgesetzt")+COUNTIF(Mobilität!G8:G13,"bisher nicht umgesetzt")+COUNTIF(Strom!G8:G13,"bisher nicht umgesetzt")+COUNTIF(Wärme!G8:G13,"bisher nicht umgesetzt")+COUNTIF('17 SDGs'!G8:G11,"bisher nicht umgesetzt")+ COUNTIF('KW-Anpassung'!G8:G12,"bisher nicht umgesetzt")+COUNTIF(Kompensation!F19:F28,"bisher nicht umgesetzt")+ COUNTIF(Abfall!G8:G13,"Umsetzung nicht möglich")+COUNTIF(Einkauf!G8:G13,"Umsetzung nicht möglich")+COUNTIF(Ernährung!G11:G15,"Umsetzung nicht möglich")+COUNTIF(Kommunikation!G8:G13,"Umsetzung nicht möglich")+COUNTIF(Kohlenstoffbindung!G8:G12,"Umsetzung nicht möglich")+COUNTIF(Mobilität!G8:G13,"Umsetzung nicht möglich")+COUNTIF(Strom!G8:G13,"Umsetzung nicht möglich")+COUNTIF(Wärme!G8:G13,"Umsetzung nicht möglich")+COUNTIF('17 SDGs'!G8:G11,"Umsetzung nicht möglich")+ COUNTIF('KW-Anpassung'!G8:G12,"Umsetzung nicht möglich")+COUNTIF(Kompensation!F19:F28,"Umsetzung nicht möglich") -> 0
B75: Version: 15.11.2024

Sheet CO2-Reduktionspfad_alt
A2: Der CO2-Reduktionspfad
A4: Schulen, die die Zertifizierungsstufe Klimaschule Gold, müssen einen CO2-Reduktionspfad für die nächsten 10 Jahre, ausgehend von der ersten Treibhausgasbilanz der Schule, entwicklen. Der CO2-Reduktionspfad ergibt sich aus den geplanten Klimaschutzmaßnahmen und den damit verbunden CO2-Einsparpotentialen, die von Schulen mithilfe des CO2-Einsparungsrechner berechnet werden müssen.
A6: Ausgangssituation (Bitte ausfüllen)
A8: Kalenderjahr der ersten Treibhausgasbilanz | C8: 2022
A10: Ergebnis des ersten Treibhausgasbilanz in Tonnen laut des CO2-Rechners für Schulen | C10: 415.4
B16: Geplante jährliche CO2-Einsparung aller Maßnahmen laut Klimaschutzplan 10 Jahre im voraus. Hierbei handelt es sich um Maßnahmen, die dauerhaft den CO2-Fußabdruck der Schule senken. | C16: =(Abfall!#REF!+Ernährung!J16+Einkauf!J14+Kohlenstoffbindung!J13+Kommunikation!J22+Mobilität!J17+Strom!J16+Wärme!J15)/1000 -> #REF!
B17: Geplante prozentuale Einsparung im Vergleich zum ersten Treibhausgasbilanz. | C17: =C16/C10 -> #REF! | E17: Die geplante Einsparung wird ab der ersten Startbilanz gleichmäßig auf die folgenden 10 Jahre verteilt und liefert den geplanten CO2-Reduktionspfad
B18: Gesamte geplante Kompensationsleistung laut Klimaschutzplan | C18: =Kompensation!H29/1000 -> 0
C23: ="Startbilanz "&CHAR(10)&C8 -> Startbilanz 2022 | D23: =C8+1 -> 2023 | E23: =D23+1 -> 2024 | F23: =E23+1 -> 2025 | G23: =F23+1 -> 2026 | H23: =G23+1 -> 2027 | I23: =H23+1 -> 2028 | J23: =I23+1 -> 2029 | K23: =J23+1 -> 2030 | L23: =K23+1 -> 2031 | M23: =L23+1 -> 2032
A24: Real ohne Kompensation | B24: Reale Treibhausgasemissionen laut CO2-Rechner für Schulen ohne Kompensationsmaßnahmen (bitte eintragen) | C24: =C10 -> 415.4 | F24: 450 | I24: 452 | L24: 530
A25: Real mit Kompensation | B25: Reale Treibhausgasemissionen laut CO2-Rechner für Schulen mit Kompensationsmaßnahmen (bitte eintragen) | C25: 250 | F25: 350 | I25: 325 | K25: 230
A26: Ziele ohne Kompensation | B26: CO2-Emissionsziele der Schule laut Klimaschutzplan ohne Kompensationsmaßnahmen | C26: =C24 -> 415.4 | D26: =C26-(0.1*C16) -> #REF! | E26: =C26-(0.2*C16) -> #REF! | F26: =C10-(0.3*C16) -> #REF! | G26: =C26-(0.4*C16) -> #REF! | H26: =C26-(0.5*C16) -> #REF! | I26: =C26-(0.6*C16) -> #REF! | J26: =C26-(0.7*C16) -> #REF! | K26: =C26-(0.8*C16) -> #REF! | L26: =C26-(0.9*C16) -> #REF! | M26: =C26-C16 -> #REF! | O26: gleichmäßige Verteilung ist für mich ok
A27: Ziele mit Kompensation | B27: CO2-Emissionsziele der Schule laut Klimaschutzplan mit Kompensationsmaßnahmen | C27: =C24 -> 415.4 | D27: =D26-(0.1*C18) -> #REF! | E27: =E26-(0.1*C18) -> #REF! | F27: =F26-C18*0.1 -> #REF! | G27: =G26-(0.1*C18) -> #REF! | H27: =H26-(0.1*C18) -> #REF! | I27: =I26-(0.1*C18) -> #REF! | J27: =J26-(0.1*C18) -> #REF! | K27: =K26-(0.1*C18) -> #REF! | L27: =L26-(0.1*C18) -> #REF! | M27: =M26-(0.1*C18) -> #REF!
B28: CO2-Emissionsziele der Schule laut Klimaschutzplan mit Kompensationsmaßnahmen | C28: =C24 -> 415.4 | D28: =Tabelle33[[#This Row],[0]]-IF(Kompensation!I19='CO2-Reduktionspfad_alt'!C8+1,Kompensation!H19/1000,0)-IF(Kompensation!I20='CO2-Reduktionspfad_alt'!C8+1,Kompensation!H20/1000,0)-IF(Kompensation!I21='CO2-Reduktionspfad_alt'!C8+1,Kompensation!H21/1000,0)-IF(Kompensation!I22='CO2-Reduktionspfad_alt'!C8+1,Kompensation!H22/1000,0)-IF(Kompensation!#REF!='CO2-Reduktionspfad_alt'!C8+1,Kompensation!#REF!/1000,0)-IF(Kompensation!I29='CO2-Reduktionspfad_alt'!C8+1,Kompensation!H29/1000,0)-IF(Kompensation!I30='CO2-Reduktionspfad_alt'!C8+1,Kompensation!H30/1000,0)-IF(Kompensation!#REF!='CO2-Reduktionspfad_alt'!C8+1,Kompensation!#REF!/1000,0) -> #REF! | E28: =E27-(0.1*C19) -> #REF! | F28: =F27-C19*0.1 -> #REF! | G28: =G27-(0.1*C19) -> #REF! | H28: =H27-(0.1*C19) -> #REF! | I28: =I27-(0.1*C19) -> #REF! | J28: =J27-(0.1*C19) -> #REF! | K28: =K27-(0.1*C19) -> #REF! | L28: =L27-(0.1*C19) -> #REF! | M28: =M27-(0.1*C19) -> #REF! | O28: Eine gleichmäßige Vertzeilung macht keinen Sinn!

Sheet Abfall
A6: Nr. | B6: Maßnahme | C6: Beschreibung der Maßnahme und Form der CO2-Einsparung | D6: Start der Maßnahme | E6: ="Status 1. Bewerbung"&CHAR(10)&Überblick!$F$14 -> Status 1. Bewerbung 2025 | F6: ="Status 2. Bewerbung"&CHAR(10)&Überblick!$F$16 -> Status 2. Bewerbung 2026 | G6: ="Status 3. Bewerbung"&CHAR(10)&Überblick!$F$18 -> Status 3. Bewerbung | H6: Verantwortlich & Akteure für die Umsetzung | I6: Reichweite | J6: CO2-Einsparpotential pro Jahr | K6: Ziel: CO2-Einsparpotential erreicht bis | M6: Maßnahmen, die zur Berechnung von CO2-Reduktionen geeignet sind | N6: Zugehörige Maßnahme im Klimaschutzplan | O6: Aktueller Müllverbrauch pro Jahr | P6: Geplante Einsparung pro Jahr in % | Q6: Geplante CO2-Reduktion pro Jahr
A8: AF1 | B8: Jede Klasse sammelt auf dem Pausenhof zwei Wochen lang Müll. | C8: Jede Klasse sammelt zwei Wochen lang Müll auf dem Pausenhof. Dabei erkennen die Schüler, wie viel Müll alltäglich anfällt und lernen, wie wichtig es ist, Abfall zu vermeiden oder korrekt zu entsorgen. Da momentan nur Restmüll und Papiermüll zur Verfügung stehen, wird der gesammelte Müll entsprechend diesen Kategorien sortiert. Obwohl der Müll momentan nur in Restmüll und Papiermüll getrennt wird, fördert die Sammelaktion das Bewusstsein der Schüler für die Menge an Abfall und die Wichtigkeit von Müllvermeidung. Jede vermiedene Plastiktüte oder Verpackung reduziert den CO₂-Ausstoß, der bei der Produktion und Entsorgung von Einwegmaterialien entsteht. | D8: 43344 | E8: wird laufend umgesetzt | F8: wird laufend umgesetzt | H8: Hausmeister & Klassenlehrkräfte | I8: Ganze Schule | Q8: =IF(M8="Restmüll reduzieren (Einheit m³)",O8*P8*[1]Faktoren!$E$4,0)+IF(M8="Restmüll reduzieren (Einheit t)",O8*P8*[1]Faktoren!$E$5,0)+IF(M8="Papiermüll reduzieren (Einheit m³)",O8*P8*[1]Faktoren!$E$6,0)+IF(M8="Papiermüll reduzieren (Einheit t)",O8*P8*[1]Faktoren!$E$7,0) -> 0
A9: AF2 | B9: Müllsammelaktion der Stadt Illertissen | C9: Die Stadt Illertissen veranstaltet einmal im Jahr eine Müllsammelaktion. An dieser Aktion nehmen alle Schüler der 5. bis 8. Jahrgangsstufe teil. Eine Müllsammelaktion reduziert die Menge an Abfällen, die unkontrolliert in der Natur landen. Müll, der in der Umwelt liegt, zersetzt sich oft nur sehr langsam und kann schädliche Treibhausgase wie Methan freisetzen, insbesondere bei biologischen Abfällen. Durch das Einsammeln und fachgerechte Entsorgen wird verhindert, dass solche Gase entstehen. Zudem wird Recycling ermöglicht: Wertstoffe wie Glas, Metall oder Plastik können aufbereitet und wiederverwendet werden, anstatt neue Rohstoffe zu fördern, was CO2 einspart. Gleichzeitig sensibilisiert die Aktion die Schüler für den Umweltschutz und die Vermeidung von Müll. | D9: 44075 | E9: wird laufend umgesetzt | F9: wird laufend umgesetzt | H9: Stadt Illertissen Florian Pfeiffer | I9: Über die Schule hinaus | M9: Gelbe Tonne einführen | N9: AF6 | Q9: 1900
A10: AF3 | B10: Ausgabe von Papiertüten beim Bäckerverkauf nur auf Nachfrage | C10: Wenn Papiertüten nur auf Nachfrage ausgegeben werden, sinkt die Gesamtmenge der produzierten und verwendeten Tüten. Weniger Verbrauch bedeutet weniger Ressourcenverbrauch und Transportaufwand, was den CO2-Ausstoß reduziert | D10: 44440 | E10: wird laufend umgesetzt | F10: wird laufend umgesetzt | H10: Bäckerverkauf | I10: Ganze Schule | Q10: =IF(M10="Restmüll reduzieren (Einheit m³)",O10*P10*Faktoren!$E$4,0)+IF(M10="Restmüll reduzieren (Einheit t)",O10*P10*Faktoren!$E$5,0)+IF(M10="Papiermüll reduzieren (Einheit m³)",O10*P10*Faktoren!$E$6,0)+IF(M10="Papiermüll reduzieren (Einheit t)",O10*P10*Faktoren!$E$7,0) -> 0
A11: AF4 | B11: Verkauf von wiederverwendbaren Trinkfalschen im Rektorat | C11: Wiederverwendbare Trinkflaschen reduzieren die Nachfrage nach Einwegplastikflaschen, die in der Herstellung und Entsorgung viel Energie und Ressourcen benötigen. Außerdem fördern sie den bewussteren Umgang mit Ressourcen und vermeiden unnötigen Abfall. | D11: 45536 | E11: wird laufend umgesetzt | F11: wird laufend umgesetzt | H11: Monika Scherzer | I11: Ganze Schule | Q11: =IF(M11="Restmüll reduzieren (Einheit m³)",O11*P11*Faktoren!$E$4,0)+IF(M11="Restmüll reduzieren (Einheit t)",O11*P11*Faktoren!$E$5,0)+IF(M11="Papiermüll reduzieren (Einheit m³)",O11*P11*Faktoren!$E$6,0)+IF(M11="Papiermüll reduzieren (Einheit t)",O11*P11*Faktoren!$E$7,0) -> 0
A12: AF5 | B12: Wiederverwendung von alten Büchern als Weihnachtsartikel | C12: Die Klasse 5c hat alte, aussortierte Bücher vor dem Wegwerfen bewahrt und die Seiten kreativ genutzt, um daraus weihnachtliche Dekorationen herzustellen und zu verkaufen. Auf diese Weise wurden Abfall vermieden und Ressourcen weiterverwendet. Die Hälfte des Erlöses wurde an Afrika gespendet, um den Bau von Brunnen zu unterstützen. Damit trägt die Aktion sowohl zur Müllvermeidung als auch indirekt zum Klimaschutz bei, da Wiederverwertung CO₂ spart und die Spende nachhaltige Projekte fördert. | D12: 45992 | F12: umgesetzt | H12: Anna Tröbelsberger | I12: Über die Schule hinaus | Q12: =IF(M12="Restmüll reduzieren (Einheit m³)",#REF!*P12*Faktoren!$E$4,0)+IF(M12="Restmüll reduzieren (Einheit t)",#REF!*P12*Faktoren!$E$5,0)+IF(M12="Papiermüll reduzieren (Einheit m³)",#REF!*P12*Faktoren!$E$6,0)+IF(M12="Papiermüll reduzieren (Einheit t)",#REF!*P12*Faktoren!$E$7,0) -> 0
A13: AF6 | B13: Mülltrennung optimieren | C13: Bisher wird unser Müll nur nach Papier und Restmüll getrennt, da uns noch keine gelbe Tonne von der Stadt Illertissen genehmigt worden ist. Das soll sich für die Zukunft ändern. Eine erweiterte Mülltrennung ermöglicht es, Plastik gezielt zu recyceln. Recycling spart CO2, da für die Wiederverwertung weniger Energie benötigt wird als für die Herstellung neuer Produkte aus Rohstoffen. | D13: 46113 | E13: zukünftiger Termin | F13: In Umsetzung (Mitte) | H13: Monika Scherzer Stephan Deak | I13: Ganze Schule | J13: 1900 | K13: 2027 | Q13: =IF(M13="Restmüll reduzieren (Einheit m³)",#REF!*P13*Faktoren!$E$4,0)+IF(M13="Restmüll reduzieren (Einheit t)",#REF!*P13*Faktoren!$E$5,0)+IF(M13="Papiermüll reduzieren (Einheit m³)",#REF!*P13*Faktoren!$E$6,0)+IF(M13="Papiermüll reduzieren (Einheit t)",#REF!*P13*Faktoren!$E$7,0) -> 0
A14: AF7 | B14: Word Clean up Day | C14: Die Schule nimmt am World Cleanup Day am 20. September 2026 teil, der größten weltweiten Bürgerbewegung zur Bekämpfung von Umweltverschmutzung. An diesem Tag sammeln Schülerinnen und Schüler gemeinsam Müll im Schulumfeld und leisten so einen direkten Beitrag zum Schutz der Natur. Durch das Entfernen von Abfall werden Umwelt und Tiere geschützt, Mikroplastik gelangt seltener in Böden und Gewässer, und die Schüler entwickeln ein stärkeres Bewusstsein dafür, wie wichtig saubere Lebensräume und verantwortungsvolles Verhalten für den Klimaschutz sind. | D14: 46266 | F14: zukünftiger Termin | H14: Stephan Deak + Herr Ziegler (Stadt Illertissen) | I14: Über die Schule hinaus
I15: Summen | J15: =SUM(J8:J14) -> 1900

Sheet Einkauf
A6: Nr. | B6: Maßnahme | C6: Beschreibung der Maßnahme und Form der CO2-Einsparung | D6: Start der Maßnahme | E6: ="Status 1. Bewerbung"&CHAR(10)&Überblick!$F$14 -> Status 1. Bewerbung 2025 | F6: ="Status 2. Bewerbung"&CHAR(10)&Überblick!$F$16 -> Status 2. Bewerbung 2026 | G6: ="Status 3. Bewerbung"&CHAR(10)&Überblick!$F$18 -> Status 3. Bewerbung | H6: Verantwortlich & Akteure für die Umsetzung | I6: Reichweite | J6: CO2-Einsparpotential pro Jahr | K6: Ziel: CO2-Einsparpotential erreicht bis | N6: Maßnahmen, die zur Berechnung von CO2-Reduktionen geeignet sind | O6: Zugehörige Maßnahme im Klimaschutzplan | P6: Aktueller Papierverbrauch pro Jahr | Q6: Geplante Einsparung bzw. geplante Umstellung pro Jahr in % | R6: Geplante CO2-Reduktion pro Jahr
A8: EK1 | B8: ausschließlich Recyclingpapier für Toilette und Papierspender | C8: In allen Toiletten und Klassenzimmern wird ausschließlich recyceltes Papier verwendet. Das spart CO², da Recycling weniger CO² ausstößt, als neues Papier herzustellen | D8: 42248 | E8: wird laufend umgesetzt | F8: wird laufend umgesetzt | H8: Hausmeister, Sekretariat | I8: Ganze Schule | N8: Kopierpapier: Frischfaserpapier durch Recyclingpapier ersetzen | O8: EK5 | P8: 151750 | Q8: 0.9 | R8: =IF(N8="Kopierpapier: Frischfaserpapier durch Recyclingpapier ersetzen",Einkauf!P8*Einkauf!Q8*Faktoren!$E$9,0)+IF(N8="Kopierpapier: Papierverbrauch reduzieren (Frischfaser)",Einkauf!P8*Einkauf!Q8*Faktoren!$E$10,0)+IF(N8="Kopierpapier: Papierverbrauch reduzieren (Recycling)",Einkauf!P8*Einkauf!Q8*Faktoren!$E$11,0)+IF(N8="Toilettenpapier: Frischfaser- durch Recyclingpapier ersetzen (Normalrolle)",Einkauf!P8*Einkauf!Q8*Faktoren!$E$12,0)+IF(N8="Toilettenpapier: Frischfaser- durch Recyclingpapier ersetzen (Jumborolle)",Einkauf!P8*Einkauf!Q8*Faktoren!$E$13,0)+IF(N8="Toilettenpapier: Verbrauch reduzieren (Jumborolle, Frischfaser)",Einkauf!P8*Einkauf!Q8*Faktoren!$E$14,0)+IF(N8="Toilettenpapier: Verbrauch reduzieren (Jumborolle, Recycling)",Einkauf!P8*Einkauf!Q8*Faktoren!$E$15,0)+IF(N8="Toilettenpapier: Verbrauch reduzieren (Normalrolle, Frischfaser)",Einkauf!P8*Einkauf!Q8*Faktoren!$E$16,0)+IF(N8="Toilettenpapier: Verbrauch reduzieren (Normalrolle, Recycling)",Einkauf!P8*Einkauf!Q8*Faktoren!$E$17,0)+IF(N8="Papierhandtücher: Frischfaser durch Recyclingpapier ersetzen",Einkauf!P8*Einkauf!Q8*Faktoren!$E$18,0)+IF(N8="Papierhandtücher: Verbrauch reduzieren (Frischfaser)",Einkauf!P8*Einkauf!Q8*Faktoren!$E$19,0)+IF(N8="Papierhandtücher: Verbrauch reduzieren (Recycling)",Einkauf!P8*Einkauf!Q8*Faktoren!$E$20,0) -> 122.66183
A9: EK2 | B9: Abfallvermeidung im ES-Unterricht | C9: Um Abfall zu vermeiden, wird übrig gebliebenes Essen nicht weggeworfen, sondern sinnvoll weiterverwendet: Es wird an die Schülerinnen und Schüler verteilt, bevor es abläuft, oder als Restgericht verkocht. Dadurch werden Lebensmittelverschwendung und unnötige Entsorgung reduziert. Da bei der Produktion von Lebensmitteln bereits CO₂ entsteht, spart man durch das Vermeiden von Lebensmittelabfall CO₂ ein – denn weniger Essen muss neu produziert, transportiert und entsorgt werden. | D9: 43734 | E9: wird laufend umgesetzt | F9: wird laufend umgesetzt | H9: Ulrike Exl | I9: Mehrere Jahrgangsstufen
A10: EK3 | B10: Papiereinsparung durch Digitalisierung. | C10: Die Kommunikation im Schulleben erfolgt über die digitale Seite Edupage. Digitale Kommunikation reduziert den Verbrauch von Papier, Druckertinte und Energie, die für den Transport von Briefen oder Handzetteln nötig wäre. Statt Ausdrucke oder Elternbriefe zu verschicken, können alle wichtigen Informationen wie Stundenpläne, Mitteilungen oder Aufgaben online bereitgestellt werden. Dies spart nicht nur Ressourcen, sondern verringert auch die CO2-Emissionen, die mit der Herstellung und dem Transport von Papierprodukten verbunden sind. | D10: 45536 | E10: In Umsetzung (Mitte) | F10: wird laufend umgesetzt | H10: Stephan Deak | I10: Ganze Schule | J10: 696 | K10: 2025 | N10: Kopierpapier: Papierverbrauch reduzieren (Frischfaser) | O10: EK3 | P10: 303500 | Q10: 0.5 | R10: =IF(N10="Kopierpapier: Frischfaserpapier durch Recyclingpapier ersetzen",Einkauf!P10*Einkauf!Q10*Faktoren!$E$9,0)+IF(N10="Kopierpapier: Papierverbrauch reduzieren (Frischfaser)",Einkauf!P10*Einkauf!Q10*Faktoren!$E$10,0)+IF(N10="Kopierpapier: Papierverbrauch reduzieren (Recycling)",Einkauf!P10*Einkauf!Q10*Faktoren!$E$11,0)+IF(N10="Toilettenpapier: Frischfaser- durch Recyclingpapier ersetzen (Normalrolle)",Einkauf!P10*Einkauf!Q10*Faktoren!$E$12,0)+IF(N10="Toilettenpapier: Frischfaser- durch Recyclingpapier ersetzen (Jumborolle)",Einkauf!P10*Einkauf!Q10*Faktoren!$E$13,0)+IF(N10="Toilettenpapier: Verbrauch reduzieren (Jumborolle, Frischfaser)",Einkauf!P10*Einkauf!Q10*Faktoren!$E$14,0)+IF(N10="Toilettenpapier: Verbrauch reduzieren (Jumborolle, Recycling)",Einkauf!P10*Einkauf!Q10*Faktoren!$E$15,0)+IF(N10="Toilettenpapier: Verbrauch reduzieren (Normalrolle, Frischfaser)",Einkauf!P10*Einkauf!Q10*Faktoren!$E$16,0)+IF(N10="Toilettenpapier: Verbrauch reduzieren (Normalrolle, Recycling)",Einkauf!P10*Einkauf!Q10*Faktoren!$E$17,0)+IF(N10="Papierhandtücher: Frischfaser durch Recyclingpapier ersetzen",Einkauf!P10*Einkauf!Q10*Faktoren!$E$18,0)+IF(N10="Papierhandtücher: Verbrauch reduzieren (Frischfaser)",Einkauf!P10*Einkauf!Q10*Faktoren!$E$19,0)+IF(N10="Papierhandtücher: Verbrauch reduzieren (Recycling)",Einkauf!P10*Einkauf!Q10*Faktoren!$E$20,0) -> 696.14375
A11: EK4 | B11: Tauschregal | C11: Abschlussklassen spenden ihre Bücher und Formelsammlungen, welche die nächstjährige Abschlussklasse verwenden kann. Diese Maßnahme zeigt, wie sinnvoll es ist, Dinge mehrfach zu nutzen, anstatt sie wegzuwerfen, und trägt zu einem nachhaltigen Umgang mit Materialien bei. | D11: 45858 | E11: In Umsetzung (Mitte) | F11: wird laufend umgesetzt | H11: Florian Pfeiffer | I11: Ganze Schule | J11: 3 | K11: 2026
A12: EK5 | B12: Umweltpapier für alle Ausdrucke | C12: Die Schule verwendet intern nur noch Recyclingpapier, um Ressourcen zu schonen und den Papierverbrauch klimafreundlicher zu gestalten. Lediglich Zeugnisse und offizielle Schreiben an höhere Stellen werden weiterhin auf normalem Papier gedruckt, da dies dort vorgeschrieben oder notwendig ist. Durch die Umstellung auf Recyclingpapier werden Energie, Wasser und Holz eingespart, und der CO₂-Ausstoß, der bei der Papierherstellung entsteht, deutlich reduziert. So leistet die Schule einen einfachen, aber wirkungsvollen Beitrag zum Klimaschutz. | D12: 46113 | F12: In Umsetzung (Mitte) | H12: Stephan Deak | I12: Ganze Schule | J12: 123 | K12: 2027 | N12: Papiermüll reduzieren (Einheit m³) | O12: EK4 | P12: 65 | Q12: 0.01 | R12: =IF(N12="Restmüll reduzieren (Einheit m³)",P12*Q12*Faktoren!$E$4,0)+IF(N12="Restmüll reduzieren (Einheit t)",P12*Q12*Faktoren!$E$5,0)+IF(N12="Papiermüll reduzieren (Einheit m³)",P12*Q12*Faktoren!$E$6,0)+IF(N12="Papiermüll reduzieren (Einheit t)",P12*Q12*Faktoren!$E$7,0) -> 2.76822
A13: EK6 | B13: Schulflohmarkt | C13: Die Schule organisiert einen Schulflohmarkt, bei dem gut erhaltene Gegenstände weiterverkauft oder getauscht werden. Dadurch erhalten Kleidung, Spiele, Bücher und andere Alltagsgegenstände ein zweites Leben, statt im Müll zu landen oder neu gekauft werden zu müssen. Das spart Ressourcen, vermeidet Abfall und reduziert CO₂, weil für wiederverwendete Produkte keine neue Herstellung und keine zusätzlichen Transportwege nötig sind. So fördert der Flohmarkt nachhaltigen Konsum und macht den Schülern anschaulich klar, wie wertvoll Wiederverwendung für den Klimaschutz ist. | D13: 46997 | F13: zukünftiger Termin | H13: Pfeiffer Florian | I13: Über die Schule hinaus | R13: =IF(N13="Kopierpapier: Frischfaserpapier durch Recyclingpapier ersetzen",Einkauf!P13*Einkauf!Q13*Faktoren!$E$9,0)+IF(N13="Kopierpapier: Papierverbrauch reduzieren (Frischfaser)",Einkauf!P13*Einkauf!Q13*Faktoren!$E$10,0)+IF(N13="Kopierpapier: Papierverbrauch reduzieren (Recycling)",Einkauf!P13*Einkauf!Q13*Faktoren!$E$11,0)+IF(N13="Toilettenpapier: Frischfaser- durch Recyclingpapier ersetzen (Normalrolle)",Einkauf!P13*Einkauf!Q13*Faktoren!$E$12,0)+IF(N13="Toilettenpapier: Frischfaser- durch Recyclingpapier ersetzen (Jumborolle)",Einkauf!P13*Einkauf!Q13*Faktoren!$E$13,0)+IF(N13="Toilettenpapier: Verbrauch reduzieren (Jumborolle, Frischfaser)",Einkauf!P13*Einkauf!Q13*Faktoren!$E$14,0)+IF(N13="Toilettenpapier: Verbrauch reduzieren (Jumborolle, Recycling)",Einkauf!P13*Einkauf!Q13*Faktoren!$E$15,0)+IF(N13="Toilettenpapier: Verbrauch reduzieren (Normalrolle, Frischfaser)",Einkauf!P13*Einkauf!Q13*Faktoren!$E$16,0)+IF(N13="Toilettenpapier: Verbrauch reduzieren (Normalrolle, Recycling)",Einkauf!P13*Einkauf!Q13*Faktoren!$E$17,0)+IF(N13="Papierhandtücher: Frischfaser durch Recyclingpapier ersetzen",Einkauf!P13*Einkauf!Q13*Faktoren!$E$18,0)+IF(N13="Papierhandtücher: Verbrauch reduzieren (Frischfaser)",Einkauf!P13*Einkauf!Q13*Faktoren!$E$19,0)+IF(N13="Papierhandtücher: Verbrauch reduzieren (Recycling)",Einkauf!P13*Einkauf!Q13*Faktoren!$E$20,0) -> 0
I14: Summen | J14: =SUM(J8:J13) -> 822

Sheet Ernährung
A6: Nr. | B6: Maßnahme | C6: Beschreibung der Maßnahme und Form der CO2-Einsparung | D6: Start der Maßnahme | E6: ="Status 1. Bewerbung"&CHAR(10)&Überblick!$F$14 -> Status 1. Bewerbung 2025 | F6: ="Status 2. Bewerbung"&CHAR(10)&Überblick!$F$16 -> Status 2. Bewerbung 2026 | G6: ="Status 3. Bewerbung"&CHAR(10)&Überblick!$F$18 -> Status 3. Bewerbung | H6: Verantwortlich & Akteure für die Umsetzung | I6: Reichweite | J6: CO2-Einsparpotential pro Jahr | K6: Ziel: CO2-Einsparpotential erreicht bis | M6: Maßnahmen, die zur Berechnung von CO2-Reduktionen geeignet sind | N6: Zugehörige Maßnahme im Klimaschutzplan | O6: Aktueller Verbrauch pro Jahr | P6: Geplante Einsparung bzw. geplante Umstellung pro Jahr in % | Q6: Geplante CO2-Reduktion pro Jahr
A8: ER1 | B8: Catering AG | C8: Die Catering-AG der EVMS besteht aus mehreren SuS. der Ganztagesklassen. Die AG ist für die Verköstigung von verschiedenen Schul-Veranstaltungen, welche im laufe des Jahres stattfinden, verantwortlich (z. B. Bewerberforum, Tag der offenen Tür, Abschlussfeier). Sie produziert dafür verschiedene passende Speisen (z. B. Kuchen, Gebäck) und bietet diese auch zusammen mit Getränke an. In den AG-Stunden wird dafür vorab ausprobiert und geplant. Die Catering-AG kann CO2 einsparen, indem sie auf regionale, saisonale und möglichst unverpackte Zutaten setzt. Regionale Lebensmittel haben kürzere Transportwege und verursachen weniger CO2-Emissionen, während saisonale Produkte keine energieintensive Lagerung erfordern. Durch das Selberkochen in der Schule werden zudem industrielle Prozesse und Verpackungsmaterialien vermieden, die normalerweise bei Fertigprodukten anfallen. Zusätzlich kann die AG klimafreundliche Alternativen wie vegetarische oder vegane Speisen ausprobieren, die eine deutlich geringere CO2-Bilanz aufweisen als Fleischprodukte. Das bewusste Planen und Produzieren verhindert außerdem Lebensmittelverschwendung, was ein weiterer wichtiger Beitrag zum Klimaschutz ist. Darüber hinaus sensibilisiert die Catering-AG die Schüler für nachhaltige Ernährungsweisen, was langfristig auch außerhalb der Schule zu einem klimafreundlicheren Verhalten führen kann. | D8: 42005 | E8: wird laufend umgesetzt | F8: wird laufend umgesetzt | H8: Christine Fuhrmann | I8: Über die Schule hinaus | M8: Getränkeautomat durch Trinkwasserspender ersetzen | N8: ER5 | O8: 15740 | P8: 0.2 | Q8: =IF(M8="Mensa: Fleischgerichte durch vegetarische Gerichte ersetzen",Ernährung!O8*Ernährung!P8*Faktoren!$E$23,0)+IF(M8="Mensa: Fleischgerichte durch vegane Gerichte ersetzen",Ernährung!O8*Ernährung!P8*Faktoren!$E$24,0)+IF(M8="Mensa: Vegetarische Gerichte durch vegane Gerichte ersetzen",Ernährung!O8*Ernährung!P8*Faktoren!$E$25,0)+IF(M8="Pausenverkauf: Wurstbrötchen durch vegetarisch belegte Brötchen ersetzen",Ernährung!O8*Ernährung!P8*Faktoren!$E$26,0)+IF(M8="Pausenverkauf: Wurstbrötchen durch vegan belegte Brötchen ersetzen",Ernährung!O8*Ernährung!P8*Faktoren!$E$27,0)+IF(M8="Pausenverkauf: Vegetarisch belegte Brötchen durch vegan belegte Brötchen ersetzen",Ernährung!O8*Ernährung!P8*Faktoren!$E$28,0)+IF(M8="Pausenverkauf: Wurstverkauf (Wiener, Bockwurst) reduzieren",Ernährung!O8*Ernährung!P8*Faktoren!$E$29,0)+IF(M8="Kaffeekonsum reduzieren (in kg)",Ernährung!O8*Ernährung!P8*Faktoren!$E$30,0)+IF(M8="Kaffeekonsum reduzieren (in Liter)",Ernährung!O8*Ernährung!P8*Faktoren!$E$31,0)+IF(M8="Milchverbrauch reduzieren",Ernährung!O8*Ernährung!P8*Faktoren!$E$32,0)+IF(M8="Milch durch veganes Milchgetränk ersetzen",Ernährung!O8*Ernährung!P8*Faktoren!$E$33,0)+IF(M8="Getränkeautomat durch Trinkwasserspender ersetzen",Ernährung!O8*Ernährung!P8*Faktoren!$E$34,0) -> 1620.7509
A9: ER2 | B9: ausschließlicher Verkauf von Pfandflaschen + Pfandflaschenautomat | C9: Pfandflaschen sind wiederverwendbar, was ihren ökologischen Fußabdruck erheblich verringert. Im Vergleich zu Einwegflaschen oder Dosen benötigen sie weniger Ressourcen und Energie für die Produktion und Entsorgung. Jede wiederverwendete Flasche spart CO2-Emissionen, die durch die Herstellung neuer Einwegbehälter entstehen würden. Ein Pfandflaschenautomat erleichtert die Rückgabe und sorgt dafür, dass leere Flaschen in den Recyclingkreislauf gelangen. Dadurch wird sichergestellt, dass weniger Flaschen im Müll landen und mehr Material wiederverwendet wird. | D9: 42005 | E9: wird laufend umgesetzt | F9: wird laufend umgesetzt | H9: Monika Scherzer | I9: Ganze Schule | Q9: =IF(M9="Mensa: Fleischgerichte durch vegetarische Gerichte ersetzen",Ernährung!O9*Ernährung!P9*Faktoren!$E$23,0)+IF(M9="Mensa: Fleischgerichte durch vegane Gerichte ersetzen",Ernährung!O9*Ernährung!P9*Faktoren!$E$24,0)+IF(M9="Mensa: Vegetarische Gerichte durch vegane Gerichte ersetzen",Ernährung!O9*Ernährung!P9*Faktoren!$E$25,0)+IF(M9="Pausenverkauf: Wurstbrötchen durch vegetarisch belegte Brötchen ersetzen",Ernährung!O9*Ernährung!P9*Faktoren!$E$26,0)+IF(M9="Pausenverkauf: Wurstbrötchen durch vegan belegte Brötchen ersetzen",Ernährung!O9*Ernährung!P9*Faktoren!$E$27,0)+IF(M9="Pausenverkauf: Vegetarisch belegte Brötchen durch vegan belegte Brötchen ersetzen",Ernährung!O9*Ernährung!P9*Faktoren!$E$28,0)+IF(M9="Pausenverkauf: Wurstverkauf (Wiener, Bockwurst) reduzieren",Ernährung!O9*Ernährung!P9*Faktoren!$E$29,0)+IF(M9="Kaffeekonsum reduzieren (in kg)",Ernährung!O9*Ernährung!P9*Faktoren!$E$30,0)+IF(M9="Kaffeekonsum reduzieren (in Liter)",Ernährung!O9*Ernährung!P9*Faktoren!$E$31,0)+IF(M9="Milchverbrauch reduzieren",Ernährung!O9*Ernährung!P9*Faktoren!$E$32,0)+IF(M9="Milch durch veganes Milchgetränk ersetzen",Ernährung!O9*Ernährung!P9*Faktoren!$E$33,0)+IF(M9="Getränkeautomat durch Trinkwasserspender ersetzen",Ernährung!O9*Ernährung!P9*Faktoren!$E$34,0) -> 0
A10: ER3 | B10: AG Schulgarten | C10: Die AG Schulgarten kümmert sich um die Pflege des Schulgartens und baut dort verschiedene Kräuter an. Diese Kräuter werden im Fach „Ernährung und Soziales“ (ES) verwendet, sodass frische, selbst angebaute Zutaten in den Unterricht einfließen. Die Schüler lernen dabei nicht nur den Anbau und die Pflege von Pflanzen, sondern auch den nachhaltigen Umgang mit Lebensmitteln. Durch den Anbau eigener Kräuter entfällt der Transport von gekauften Kräutern aus dem Supermarkt, die oft über weite Strecken transportiert werden und CO₂ verursachen. Zudem werden Verpackungsmüll und energieintensive Produktionsmethoden vermieden. Frische Kräuter direkt aus dem Schulgarten sind nicht nur nachhaltiger, sondern auch gesünder. Das Projekt stärkt das Bewusstsein der Schüler für regionale und saisonale Lebensmittel und fördert einen ressourcenschonenden Lebensstil. | D10: 42005 | E10: wird laufend umgesetzt | F10: wird laufend umgesetzt | H10: Ulrike Exl | I10: Ganze Schule | Q10: =IF(M10="Mensa: Fleischgerichte durch vegetarische Gerichte ersetzen",Ernährung!O10*Ernährung!P10*Faktoren!$E$23,0)+IF(M10="Mensa: Fleischgerichte durch vegane Gerichte ersetzen",Ernährung!O10*Ernährung!P10*Faktoren!$E$24,0)+IF(M10="Mensa: Vegetarische Gerichte durch vegane Gerichte ersetzen",Ernährung!O10*Ernährung!P10*Faktoren!$E$25,0)+IF(M10="Pausenverkauf: Wurstbrötchen durch vegetarisch belegte Brötchen ersetzen",Ernährung!O10*Ernährung!P10*Faktoren!$E$26,0)+IF(M10="Pausenverkauf: Wurstbrötchen durch vegan belegte Brötchen ersetzen",Ernährung!O10*Ernährung!P10*Faktoren!$E$27,0)+IF(M10="Pausenverkauf: Vegetarisch belegte Brötchen durch vegan belegte Brötchen ersetzen",Ernährung!O10*Ernährung!P10*Faktoren!$E$28,0)+IF(M10="Pausenverkauf: Wurstverkauf (Wiener, Bockwurst) reduzieren",Ernährung!O10*Ernährung!P10*Faktoren!$E$29,0)+IF(M10="Kaffeekonsum reduzieren (in kg)",Ernährung!O10*Ernährung!P10*Faktoren!$E$30,0)+IF(M10="Kaffeekonsum reduzieren (in Liter)",Ernährung!O10*Ernährung!P10*Faktoren!$E$31,0)+IF(M10="Milchverbrauch reduzieren",Ernährung!O10*Ernährung!P10*Faktoren!$E$32,0)+IF(M10="Milch durch veganes Milchgetränk ersetzen",Ernährung!O10*Ernährung!P10*Faktoren!$E$33,0)+IF(M10="Getränkeautomat durch Trinkwasserspender ersetzen",Ernährung!O10*Ernährung!P10*Faktoren!$E$34,0) -> 0
A11: ER4 | B11: Vegetarische Tage | C11: Im Mittagsverkauf wird jeden zweiten Tag ausschließlich vegetarische Gerichte angeboten. Die Produktion von Fleisch verursacht deutlich mehr CO2-Emissionen als die Herstellung pflanzlicher Lebensmittel. Wenn jeden zweiten Tag vegetarische Gerichte angeboten werden, sinkt der Fleischkonsum, und dadurch wird die CO2-Belastung reduziert. Zudem zeigt diese Maßnahme, wie lecker und vielseitig vegetarisches Essen sein kann, was langfristig zu einem nachhaltigeren Essverhalten beiträgt. | D11: 45170 | E11: wird laufend umgesetzt | F11: wird laufend umgesetzt | H11: Mittagsverkauf | I11: Ganze Schule | Q11: =IF(M11="Mensa: Fleischgerichte durch vegetarische Gerichte ersetzen",Ernährung!O11*Ernährung!P11*Faktoren!$E$23,0)+IF(M11="Mensa: Fleischgerichte durch vegane Gerichte ersetzen",Ernährung!O11*Ernährung!P11*Faktoren!$E$24,0)+IF(M11="Mensa: Vegetarische Gerichte durch vegane Gerichte ersetzen",Ernährung!O11*Ernährung!P11*Faktoren!$E$25,0)+IF(M11="Pausenverkauf: Wurstbrötchen durch vegetarisch belegte Brötchen ersetzen",Ernährung!O11*Ernährung!P11*Faktoren!$E$26,0)+IF(M11="Pausenverkauf: Wurstbrötchen durch vegan belegte Brötchen ersetzen",Ernährung!O11*Ernährung!P11*Faktoren!$E$27,0)+IF(M11="Pausenverkauf: Vegetarisch belegte Brötchen durch vegan belegte Brötchen ersetzen",Ernährung!O11*Ernährung!P11*Faktoren!$E$28,0)+IF(M11="Pausenverkauf: Wurstverkauf (Wiener, Bockwurst) reduzieren",Ernährung!O11*Ernährung!P11*Faktoren!$E$29,0)+IF(M11="Kaffeekonsum reduzieren (in kg)",Ernährung!O11*Ernährung!P11*Faktoren!$E$30,0)+IF(M11="Kaffeekonsum reduzieren (in Liter)",Ernährung!O11*Ernährung!P11*Faktoren!$E$31,0)+IF(M11="Milchverbrauch reduzieren",Ernährung!O11*Ernährung!P11*Faktoren!$E$32,0)+IF(M11="Milch durch veganes Milchgetränk ersetzen",Ernährung!O11*Ernährung!P11*Faktoren!$E$33,0)+IF(M11="Getränkeautomat durch Trinkwasserspender ersetzen",Ernährung!O11*Ernährung!P11*Faktoren!$E$34,0) -> 0
A12: ER5 | B12: Besitz eines Wasserspenders | C12: Ein Wasserspender bietet eine nachhaltige Alternative zu abgefülltem Wasser in Plastikflaschen. Die Produktion und der Transport von Einwegflaschen verursachen erhebliche CO2-Emissionen. Mit einem Wasserspender können die Schüler ihre eigenen Trinkflaschen immer wieder auffüllen, wodurch die Nachfrage nach Einwegflaschen sinkt. Das spart Rohstoffe, Energie und reduziert Plastikmüll. Gleichzeitig wird der bewusste Umgang mit Ressourcen gefördert, was zu einem nachhaltigeren Verhalten beiträgt | D12: 45413 | E12: In Umsetzung (Mitte) | F12: wird laufend umgesetzt | H12: Monika Scherzer | I12: Ganze Schule | J12: 1621 | K12: 2026 | Q12: =M1 -> 0
A13: ER6 | B13: Feuerstelle und Sitzgelegenheiten im Schulgarten | C13: Eine Feuerstelle im Schulgarten kann nachhaltig genutzt werden, z. B. für das Verbrennen von Gartenabfällen wie Ästen und Holzresten, die ansonsten aufwendig transportiert und entsorgt werden müssten. Der Verzicht auf fossile Brennstoffe oder chemische Mittel für die Entsorgung spart CO2-Emissionen. Sitzgelegenheiten fördern die Nutzung des Schulgartens als Treffpunkt oder Lernort im Freien, wodurch Aktivitäten von innen nach draußen verlagert werden können. Dies spart Beleuchtungs- und Heizkosten in Innenräumen. Zudem sensibilisiert die Feuerstelle in Kombination mit Umweltprojekten die Schüler für nachhaltigen Ressourcenumgang, z. B. durch Diskussionen über verantwortungsvolles Heizen und Energieeinsparung. | D13: 45901 | E13: umgesetzt | F13: umgesetzt | H13: Ulrike Exl | I13: Ganze Schule | Q13: =IF(M13="Mensa: Fleischgerichte durch vegetarische Gerichte ersetzen",Ernährung!O13*Ernährung!P13*Faktoren!$E$23,0)+IF(M13="Mensa: Fleischgerichte durch vegane Gerichte ersetzen",Ernährung!O13*Ernährung!P13*Faktoren!$E$24,0)+IF(M13="Mensa: Vegetarische Gerichte durch vegane Gerichte ersetzen",Ernährung!O13*Ernährung!P13*Faktoren!$E$25,0)+IF(M13="Pausenverkauf: Wurstbrötchen durch vegetarisch belegte Brötchen ersetzen",Ernährung!O13*Ernährung!P13*Faktoren!$E$26,0)+IF(M13="Pausenverkauf: Wurstbrötchen durch vegan belegte Brötchen ersetzen",Ernährung!O13*Ernährung!P13*Faktoren!$E$27,0)+IF(M13="Pausenverkauf: Vegetarisch belegte Brötchen durch vegan belegte Brötchen ersetzen",Ernährung!O13*Ernährung!P13*Faktoren!$E$28,0)+IF(M13="Pausenverkauf: Wurstverkauf (Wiener, Bockwurst) reduzieren",Ernährung!O13*Ernährung!P13*Faktoren!$E$29,0)+IF(M13="Kaffeekonsum reduzieren (in kg)",Ernährung!O13*Ernährung!P13*Faktoren!$E$30,0)+IF(M13="Kaffeekonsum reduzieren (in Liter)",Ernährung!O13*Ernährung!P13*Faktoren!$E$31,0)+IF(M13="Milchverbrauch reduzieren",Ernährung!O13*Ernährung!P13*Faktoren!$E$32,0)+IF(M13="Milch durch veganes Milchgetränk ersetzen",Ernährung!O13*Ernährung!P13*Faktoren!$E$33,0)+IF(M13="Getränkeautomat durch Trinkwasserspender ersetzen",Ernährung!O13*Ernährung!P13*Faktoren!$E$34,0) -> 0
A14: ER7 | B14: Gesundes Frühstück | C14: Einmal pro Woche bietet die Schule ein gesundes Frühstück an, das alle Schülerinnen und Schüler kostenlos abholen können. Dieses Angebot ist besonders wichtig, weil viele Jugendliche an der Mittelschule gar nicht oder nur sehr ungesund frühstücken. Durch das gemeinsame Frühstück bekommen sie nicht nur einen besseren Start in den Tag, sondern lernen auch, wie abwechslungsreich und klimafreundlich gesundes Essen sein kann. Regionale und möglichst unverarbeitete Lebensmittel verursachen weniger CO₂, und gleichzeitig fördert das Angebot ein bewusstes Ernährungs- und Gesundheitsverhalten, das langfristig zu mehr Nachhaltigkeit beiträgt. | D14: 46266 | F14: zukünftiger Termin | H14: Ulrike Exl, Stephan Deak | I14: Ganze Schule
A15: ER8 | B15: Gesunder Snack-Automat | C15: Die Schule plant die Einführung eines Snackautomaten, der ausschließlich gesunde Snacks anbietet. Die SMV setzt sich bereits seit mehreren Jahren dafür ein und möchte so eine echte Alternative zu ungesunden Zwischenmahlzeiten schaffen. Durch die Auswahl von nährstoffreichen, möglichst regionalen und weniger verarbeiteten Produkten wird nicht nur die Gesundheit der Schülerinnen und Schüler gefördert, sondern auch der CO₂-Ausstoß reduziert, da solche Snacks in der Regel eine bessere Umweltbilanz haben. Der Automat unterstützt damit sowohl eine bewusste Ernährung als auch nachhaltiges Konsumverhalten im Schulalltag. | D15: 46631 | F15: zukünftiger Termin | H15: Denis Vespermann | I15: Ganze Schule | Q15: =IF(M15="Mensa: Fleischgerichte durch vegetarische Gerichte ersetzen",Ernährung!O15*Ernährung!P15*Faktoren!$E$23,0)+IF(M15="Mensa: Fleischgerichte durch vegane Gerichte ersetzen",Ernährung!O15*Ernährung!P15*Faktoren!$E$24,0)+IF(M15="Mensa: Vegetarische Gerichte durch vegane Gerichte ersetzen",Ernährung!O15*Ernährung!P15*Faktoren!$E$25,0)+IF(M15="Pausenverkauf: Wurstbrötchen durch vegetarisch belegte Brötchen ersetzen",Ernährung!O15*Ernährung!P15*Faktoren!$E$26,0)+IF(M15="Pausenverkauf: Wurstbrötchen durch vegan belegte Brötchen ersetzen",Ernährung!O15*Ernährung!P15*Faktoren!$E$27,0)+IF(M15="Pausenverkauf: Vegetarisch belegte Brötchen durch vegan belegte Brötchen ersetzen",Ernährung!O15*Ernährung!P15*Faktoren!$E$28,0)+IF(M15="Pausenverkauf: Wurstverkauf (Wiener, Bockwurst) reduzieren",Ernährung!O15*Ernährung!P15*Faktoren!$E$29,0)+IF(M15="Kaffeekonsum reduzieren (in kg)",Ernährung!O15*Ernährung!P15*Faktoren!$E$30,0)+IF(M15="Kaffeekonsum reduzieren (in Liter)",Ernährung!O15*Ernährung!P15*Faktoren!$E$31,0)+IF(M15="Milchverbrauch reduzieren",Ernährung!O15*Ernährung!P15*Faktoren!$E$32,0)+IF(M15="Milch durch veganes Milchgetränk ersetzen",Ernährung!O15*Ernährung!P15*Faktoren!$E$33,0)+IF(M15="Getränkeautomat durch Trinkwasserspender ersetzen",Ernährung!O15*Ernährung!P15*Faktoren!$E$34,0) -> 0
I16: Summen | J16: =SUM(J11:J15) -> 1621

Sheet Kohlenstoffbindung
A6: Nr. | B6: Maßnahme | C6: Beschreibung der Maßnahme und Form der CO2-Einsparung | D6: Start der Maßnahme | E6: ="Status 1. Bewerbung"&CHAR(10)&Überblick!$F$14 -> Status 1. Bewerbung 2025 | F6: ="Status 2. Bewerbung"&CHAR(10)&Überblick!$F$16 -> Status 2. Bewerbung 2026 | G6: ="Status 3. Bewerbung"&CHAR(10)&Überblick!$F$18 -> Status 3. Bewerbung | H6: Verantwortlich & Akteure für die Umsetzung | I6: Reichweite | J6: CO2-Einsparpotential pro Jahr | K6: Ziel: CO2-Einsparpotential erreicht bis
A8: KB1
A9: KB2
A10: KB3
A11: KB4
A12: KB5

Sheet Kommunikation
A6: Nr. | B6: Maßnahme | C6: Beschreibung der Maßnahme und Form der CO2-Einsparung | D6: Start der Maßnahme | E6: ="Status 1. Bewerbung"&CHAR(10)&Überblick!$F$14 -> Status 1. Bewerbung 2025 | F6: ="Status 2. Bewerbung"&CHAR(10)&Überblick!$F$16 -> Status 2. Bewerbung 2026 | G6: ="Status 3. Bewerbung"&CHAR(10)&Überblick!$F$18 -> Status 3. Bewerbung | H6: Verantwortlich & Akteure für die Umsetzung | I6: Reichweite | J6: CO2-Einsparpotential pro Jahr | K6: Ziel: CO2-Einsparpotential erreicht bis
A8: KV1 | B8: Exkursionen zum Thema Umwelt/Naturerfahrungen | C8: Solche Exkursionen sensibilisieren die Teilnehmer für den Wert und die Bedeutung der Natur. Wenn Schüler lernen, wie empfindlich Ökosysteme sind und welchen Einfluss menschliches Handeln auf die Umwelt hat, entwickeln sie oft ein stärkeres Bewusstsein für nachhaltiges Verhalten. Dies kann dazu führen, dass sie ihren Lebensstil anpassen, zum Beispiel weniger Ressourcen verschwenden, Müll vermeiden oder klimafreundliche Entscheidungen treffen. | D8: 44805 | E8: wird laufend umgesetzt | F8: wird laufend umgesetzt | H8: Klassenlehrkräfte | I8: Mehrere Jahrgangsstufen
A9: KV2 | B9: LBV - Spendenwoche + Bildungsmaßnahme | C9: Alle fünften Klassen nehmen an der LBV- Spendenwoche teil. Als Dank stellt der LBV den Schülern immer eine Bildungsveranstaltung zur Verfügung. Diese verfolgt das Ziel, die Schüler für unsere Umwelt zu sensibilisieren und mit unserer Umwelt vertraut zu werden. Damit die Kinder eine intrinsische Motivation erfahren, die Natur schützen zu wollen. | D9: 45292 | E9: wird laufend umgesetzt | F9: wird laufend umgesetzt | H9: Florian Pfeiffer | I9: Jahrgangsstufe
A10: KV3 | B10: Klimatage an der Schule | C10: Im Landkreis Neu-Ulm sind Umwelttage für alle Mittelschulen verpflichtend. Jede Schule gibt an, wie sie an diesem Tag etwas für den Umweltschutz beiträgt. | D10: 45292 | E10: wird laufend umgesetzt | F10: wird laufend umgesetzt | H10: Elisabeth Holand Florian Pfeiffer | I10: Ganze Schule
A11: KV4 | B11: Ecosia als Suchmaschine | C11: Ecosia ist eine Suchmaschine, die mit ihren Einnahmen Bäume pflanzt. Bäume nehmen während ihres Wachstums CO2 aus der Atmosphäre auf und speichern es, wodurch sie aktiv zur Reduktion von Treibhausgasen beitragen. Zudem nutzt Ecosia für den Betrieb seiner Server ausschließlich erneuerbare Energien, was den CO2-Fußabdruck der Suchanfragen minimiert. | D11: 45658 | E11: In Umsetzung (Mitte) | F11: wird laufend umgesetzt | H11: Stephan Deak | I11: Ganze Schule
A12: KV5 | B12: Walderlebnistage | C12: Walderlebnistage fördern bei Schülern ein tieferes Verständnis für die Bedeutung von Wäldern im Klimaschutz. Wälder sind natürliche CO2-Speicher, da sie während ihres Wachstums CO2 aus der Atmosphäre aufnehmen und langfristig binden. Wenn Schüler dies direkt erleben, entwickeln sie eine Wertschätzung für den Wald und lernen, wie wichtig es ist, ihn zu schützen. Dieses Bewusstsein kann sie dazu motivieren, umweltfreundlicher zu handeln. | D12: 45901 | E12: zukünftiger Termin | F12: wird laufend umgesetzt | H12: Judith Mester | I12: Mehrere Jahrgangsstufen
A13: KV6 | B13: Klimaschule als festes Thema in SMV-Sitzungen | C13: Wenn Klimaschutz regelmäßig in SMV-Sitzungen besprochen wird, wird das Thema fest im Schulleben verankert. Schüler haben die Möglichkeit, konkrete Projekte und Maßnahmen zu planen, wie Mülltrennung, Energiesparen oder klimafreundliche Schulfeste. Durch die aktive Beteiligung der Schüler entstehen innovative Ideen, die den CO2-Ausstoß der Schule nachhaltig reduzieren können. Zudem übernehmen die Schüler Verantwortung und tragen das Bewusstsein für Klimaschutz in ihren Alltag, was eine Multiplikatorwirkung auf die gesamte Schulgemeinschaft und ihre Familien hat. | D13: 45901 | E13: zukünftiger Termin | F13: wird laufend umgesetzt | H13: Denis Vespermann & Anna Tröbelsberger | I13: Ganze Schule
A14: KV7 | B14: Teilnahme am Projekt "Naturhelden" | C14: Unsere Schule nimmt mit den Jahrgangsstufen 5 und 6 am Projekt „Naturhelden“ teil, einem Umwelt- und Klimaschutz-Programm im Rahmen der Initiative Gesunde Erde, Gesunde Kinder.. Dabei lernen die Schülerinnen und Schüler spielerisch, wie Müll vermieden, recycelt und warum saubere Umwelt und Gesundheit zusammenhängen. Ziel des Projekts ist es, Kinder für Natur- und Umweltschutz zu sensibilisieren, ihnen Strategien gegen Umweltverschmutzung an die Hand zu geben und sie zu motivieren, aktiv an einer lebenswerten Zukunft mitzuwirken. Durch praxisnahe Aktionen, Unterrichtsmaterialien und Umwelt-Projekte werden diese Inhalte im Schulalltag verankert und tragen so zur CO₂-Reduktion und einer nachhaltigeren Lebensweise bei. | D14: 45901 | F14: wird laufend umgesetzt | H14: Judith Mester | I14: Mehrere Jahrgangsstufen
A15: KV8 | B15: Klassensprecher als Klimabotschafter | C15: Klassensprecher übernehmen Verantwortung für Klima- und Umweltschutz. Als Klimaschutzbotschafter bringen sie Ideen aus ihren Klassen ein, sind Bindeglied zwischen Schülerschaft und Klimaschule und stärken die Schülerpartizipation. Durch ihre Präsenz im Schulalltag fördern sie nachhaltiges Verhalten und tragen zur Reduzierung von CO₂-Emissionen bei. | D15: 46023 | F15: wird laufend umgesetzt | H15: Anna Tröbelsberger & Florian Pfeiffer & Denis Vespermann & Janina Biliczky | I15: Ganze Schule
A16: KV9 | B16: Ideenkasten | C16: Der Ideenkasten wurde in der Aula errichtet und gut sichtbar aufgehängt, sodass er für alle Schülerinnen und Schüler jederzeit präsent ist. Er dient als zentrale Sammelstelle für Ideen und Vorschläge rund um Klima- und Umweltschutz. Durch den Ideenkasten werden Verantwortung und Partizipation der Schülerschaft gestärkt, denn jede Person kann aktiv Vorschläge einreichen. Gleichzeitig ermöglicht er einen direkten Austausch zwischen den Schülerinnen und Schülern und der Klimaschule, sodass Ideen aufgenommen, diskutiert und umgesetzt werden können. | D16: 46023 | F16: wird laufend umgesetzt | H16: Anna Tröbelsberger & Florian Pfeiffer | I16: Ganze Schule
